BEGIN:VCALENDAR
VERSION:2.0
PRODID:-//eventon.com NONSGML v1.0//EN
CALSCALE:GREGORIAN
METHOD:PUBLISH
BEGIN:VEVENT
UID:69e72be904868
DTSTAMP:20260421T074857Z
DTSTART:20260216T150000Z
DTEND:20260219T000000Z
LOCATION:Omni Corpus Christi Hotel 900 N Shoreline Blvd.
SUMMARY:CCAMS Measurement & Instrumentation School
DESCRIPTION:Find us at Booth 42! - Technical sessions led by industry exper
 ts - Live demos and hands-on learning - Exhibit hall with 70+ measurement &
  instrumentation companies - Networking with peers\,  solution providers\, 
  and thought leaders - Certification hours available (where applicable) ðŸ”
 — Secure your spot today: https://lnkd.in/gpQ3bFGs The Corpus[..]\nhttps://
 winn-marion.com/blog/events/ccams-measurement-instrumentation-school/
URL:https://winn-marion.com/blog/events/ccams-measurement-instrumentation-school/
END:VEVENT
END:VCALENDAR