BEGIN:VCALENDAR
VERSION:2.0
PRODID:-//eventon.com NONSGML v1.0//EN
CALSCALE:GREGORIAN
METHOD:PUBLISH
BEGIN:VEVENT
UID:69e9d94c7a0f5
DTSTAMP:20260423T083316Z
DTSTART:20260127T150000Z
DTEND:20260130T000000Z
LOCATION:Bizmarck Event Center 315 S 5th St
SUMMARY:EPIC 2026
DESCRIPTION:EPIC 2026 is the Energy Progress & Innovation Conference (EPIC)
  is an annual energy industry event organized by Bismarck State College and
  held in Bismarck\,  North Dakota. The 2026 conference runs January 27-29 a
 t the Bismarck Event Center. Find us at Booth #825! The EPIC conference exp
 lores the latest developments[..]\nhttps://winn-marion.com/blog/events/epic
 -2026/
URL:https://winn-marion.com/blog/events/epic-2026/
END:VEVENT
END:VCALENDAR