BEGIN:VCALENDAR
VERSION:2.0
PRODID:-//eventon.com NONSGML v1.0//EN
CALSCALE:GREGORIAN
METHOD:PUBLISH
BEGIN:VEVENT
UID:69e9d66f07586
DTSTAMP:20260423T082103Z
DTSTART:20251028T140000Z
DTEND:20251030T230000Z
LOCATION:Mountain America Exposition Center 9575 State St
SUMMARY:2025 Utah Transportation Conference
DESCRIPTION:The Utah Transportation Conference brings together transporta
 tion industry professionals for three days of rich learning experiences an
 d abundant networking opportunities. Whether you’re looking to connect wi
 th peers\,  discover the latest innovations\,  or showcase your organizatio
 n\,  this is the premier event for Utah’s transportation community. Find 
 us at Booth #611!\nhttps://winn-marion.com/blog/events/2025-utah-transporta
 tion-conference/
URL:https://winn-marion.com/blog/events/2025-utah-transportation-conference/
END:VEVENT
END:VCALENDAR