BEGIN:VCALENDAR
VERSION:2.0
PRODID:-//eventon.com NONSGML v1.0//EN
CALSCALE:GREGORIAN
METHOD:PUBLISH
BEGIN:VEVENT
UID:69e72d20a6ba3
DTSTAMP:20260421T075408Z
DTSTART:20250915T140000Z
DTEND:20250918T230000Z
LOCATION:Houston Marriott Westchase 2900 Briarpark Dr
SUMMARY:ASGMT School 2025
DESCRIPTION:The School is the largest gas measurement school in the United 
 States that is devoted to natural gas measurement\,  pressure regulation\, 
  flow control\,  and other measurement related arenas. Find us at Booth #17
 1!\nhttps://winn-marion.com/blog/events/asgmt-school-2025/
URL:https://winn-marion.com/blog/events/asgmt-school-2025/
END:VEVENT
END:VCALENDAR