BEGIN:VCALENDAR
VERSION:2.0
PRODID:-//eventon.com NONSGML v1.0//EN
CALSCALE:GREGORIAN
METHOD:PUBLISH
BEGIN:VEVENT
UID:69e72e4259771
DTSTAMP:20260421T075858Z
DTSTART:20230915T170000Z
DTEND:20230915T230000Z
LOCATION:Winn-Marion Companies 7151 S Blackhawk St
SUMMARY:3rd Annual Car Show & Energy Automation Open House
DESCRIPTION:Join the Winn-Marion team for our 3rd Annual Open House! Car Sh
 ow Games Food Truck (11am - 1:30pm) RSVP          REGISTER YOUR VEHICL
 E    \nhttps://winn-marion.com/blog/events/3rd-annual-car-show-energy-aut
 omation-open-house/
URL:https://winn-marion.com/blog/events/3rd-annual-car-show-energy-automation-open-house/
END:VEVENT
END:VCALENDAR